BEGIN:VCALENDAR
VERSION:2.0
PRODID:-//wp-events-plugin.com//7.2.3.1//EN
TZID:America/New_York
X-WR-TIMEZONE:America/New_York
BEGIN:VEVENT
UID:234@lexcan.org
DTSTART;TZID=America/New_York:20240509T190000
DTEND;TZID=America/New_York:20240509T203000
DTSTAMP:20250829T232911Z
URL:https://lexcan.org/events/workshop-for-lexington-residents-on-transiti
 oning-to-battery-powered-landscaping-equipment/
SUMMARY:Making the Shift to Cleaner\, Quieter Landscaping: Healthier for Yo
 u and Your Neighbors
DESCRIPTION:VIRTUAL: REGISTER\n\nThe Town of Lexington\, with monetary supp
 ort from LexCAN and Citizens for Lexington Conservation\, is sponsoring a 
 workshop to help Lexington residents make the transition to battery-powere
 d equipment.\nJoin Quiet Communities Founder Jamie Banks and American Gree
 n Zone Alliance President Dan Mabe and other special guests for a discussi
 on about how residents can support a healthy transition away from fossil f
 uel-powered equipment to improve the health of workers\, children\, the pu
 blic\, and the environment. Bring your questions.\nResidents are invited t
 o attend a hands-on electric equipment demonstration on May 8th at 12:15 p
 .m on the lawn at Cary Memorial Hall\, 1605 Massachusetts Ave\, Lexington.
 \n&nbsp\;
ATTACH;FMTTYPE=image/jpeg:https://lexcan.org/wp-content/uploads/2023/04/Re
 silient-Lexington-Logo-transparent-_1_-2.png
CATEGORIES:**LexCAN Events
END:VEVENT
BEGIN:VTIMEZONE
TZID:America/New_York
X-LIC-LOCATION:America/New_York
BEGIN:DAYLIGHT
DTSTART:20240310T030000
TZOFFSETFROM:-0500
TZOFFSETTO:-0400
TZNAME:EDT
END:DAYLIGHT
END:VTIMEZONE
END:VCALENDAR