BEGIN:VCALENDAR
VERSION:2.0
PRODID:-//wp-events-plugin.com//7.2.3.1//EN
TZID:America/New_York
X-WR-TIMEZONE:America/New_York
BEGIN:VEVENT
UID:1004@lexcan.org
DTSTART;TZID=America/New_York:20260301T160000
DTEND;TZID=America/New_York:20260301T173000
DTSTAMP:20260309T180644Z
URL:https://lexcan.org/events/why-are-my-energy-bills-so-high/
SUMMARY:Why are my Energy Bills so High?
DESCRIPTION:REGISTER HERE\n\nThis session will help you understand your ele
 ctricity and fuel bills\, including supply rates\, delivery charges\, and
  all those confusing line items. You will gain clarity about what you are
  paying for and learn how to spot errors or improper charges. We will addr
 ess how to identify those "too-good-to-be-true" predatory energy offers 
 in the mail. We will provide actionable steps so you can take advantage 
 of available discounted rates and incentive programs to lower your bills
  and transition to cleaner\, cheaper forms of energy.\n\nJoin LexCAN and
  a panel of local experts including:\nOur Panel of Experts:\n- Larry Chret
 ien: Green Energy Consumers Alliance\n\n- Mark Sandeen: Lexington Select 
 Board Member &amp\; Energy Expert\n\n- Cindy Arens: Chair of the Sustaina
 ble Lexington Committee\n\n- Esther Jun: Lexington’s Energy Advocate\n\
 n&nbsp\;\n\n[embed]http://youtube.com/watch?time_continue=6&v=vVH1oZvmqbQ&
 embeds_referring_euri=https%3A%2F%2Fmail.google.com%2F&embeds_referring_or
 igin=https%3A%2F%2Fmail.google.com&source_ve_path=Mjg2NjY[/embed]
ATTACH;FMTTYPE=image/jpeg:https://lexcan.org/wp-content/uploads/2026/02/Wh
 y-Are-My-Energy-Bills-So-High.png
CATEGORIES:**LexCAN Events,*Featured,Educational,Energy,Virtual
LOCATION:https://us02web.zoom.us/meeting/register/xRPprCflTL6Hxs2GgIcLFw#/r
 egistration
END:VEVENT
BEGIN:VTIMEZONE
TZID:America/New_York
X-LIC-LOCATION:America/New_York
BEGIN:STANDARD
DTSTART:20251102T010000
TZOFFSETFROM:-0400
TZOFFSETTO:-0500
TZNAME:EST
END:STANDARD
END:VTIMEZONE
END:VCALENDAR