BEGIN:VCALENDAR
VERSION:2.0
PRODID:-//wp-events-plugin.com//7.2.3.1//EN
TZID:America/New_York
X-WR-TIMEZONE:America/New_York
BEGIN:VEVENT
UID:444@lexcan.org
DTSTART;TZID=America/New_York:20250524T100000
DTEND;TZID=America/New_York:20250524T150000
DTSTAMP:20250523T202031Z
URL:https://lexcan.org/events/visit-lexcans-booth-at-lexington-discovery-d
 ay/
SUMMARY:Visit LexCAN's Booth at Lexington Discovery Day
DESCRIPTION:Join LexCAN at Lexington's Discovery Day Street Fair at Lexingt
 on Center to learn more about what we're doing. Hosted by the Lexington Re
 tailers Association\, Lexington's Discovery Day is designed so that the pu
 blic can "discover" what Lexington has to offer. Held on Mass Ave in the c
 enter of town\, Discovery Day seeks to highlight Lexington’s many busin
 esses\, cultural and civic organizations\, and municipal departments while
  featuring food\, entertainment\, and more.
ATTACH;FMTTYPE=image/jpeg:https://lexcan.org/wp-content/uploads/2025/04/Sc
 reenshot-2025-04-07-at-12.09.48 PM.png
CATEGORIES:**LexCAN Events,*Featured,Community Events,Educational
LOCATION:Lexington Center\, Mass Ave\, Lexington\, MA\, 02421\, United Stat
 es
X-APPLE-STRUCTURED-LOCATION;VALUE=URI;X-ADDRESS=Mass Ave\, Lexington\, MA\,
  02421\, United States;X-APPLE-RADIUS=100;X-TITLE=Lexington Center:geo:0,0
END:VEVENT
BEGIN:VTIMEZONE
TZID:America/New_York
X-LIC-LOCATION:America/New_York
BEGIN:DAYLIGHT
DTSTART:20250309T030000
TZOFFSETFROM:-0500
TZOFFSETTO:-0400
TZNAME:EDT
END:DAYLIGHT
END:VTIMEZONE
END:VCALENDAR