BEGIN:VCALENDAR
VERSION:2.0
PRODID:-//wp-events-plugin.com//7.2.3.1//EN
TZID:America/New_York
X-WR-TIMEZONE:America/New_York
BEGIN:VEVENT
UID:487@lexcan.org
DTSTART;TZID=America/New_York:20250609T190000
DTEND;TZID=America/New_York:20250609T203000
DTSTAMP:20260114T003138Z
URL:https://lexcan.org/events/the-ministry-for-the-future-lexcan-climate-b
 ook-club-meeting/
SUMMARY:LexCAN Climate Book Club Meeting: The Ministry for the Future
DESCRIPTION:REGISTER HERE\n\n\nLexCAN is pleased to co-sponsor a new "Clima
 te Book Club" in partnership with Cary Library.\n\nOur first Book will be 
 a work of fiction\, The Ministry for the Future by Kim Stanley Robinson.
 \n\nThe Ministry for the Future is a masterpiece of the imagination\, usi
 ng fictional eyewitness accounts to tell the story of how climate change w
 ill affect us all. Its setting is not a desolate\, post-apocalyptic world\
 , but a future that is almost upon us. Chosen by Barack Obama as one of hi
 s favorite books of the year\, this extraordinary novel from visionary sci
 ence fiction writer Kim Stanley Robinson will change the way you think abo
 ut the climate crisis.\n\nThe book club will be held in person\, approxima
 tely once a quarter.  Books will alternate between fiction and nonfiction
  with an emphasis on hope for the planet. Limited copies of the title will
  be available to borrow at Cary Library in print and audiobook formats.\n\
 nPlease register as space is limited. \n\n
ATTACH;FMTTYPE=image/jpeg:https://lexcan.org/wp-content/uploads/2025/05/Th
 e-Ministry-for-the-Future.png
CATEGORIES:**LexCAN Events,*Featured,Community Events,Educational
LOCATION:Lexington Community Center\, 39 Marrett Road\, Lexington\, United 
 States
X-APPLE-STRUCTURED-LOCATION;VALUE=URI;X-ADDRESS=39 Marrett Road\, Lexington
 \, United States;X-APPLE-RADIUS=100;X-TITLE=Lexington Community Center:geo
 :0,0
END:VEVENT
BEGIN:VTIMEZONE
TZID:America/New_York
X-LIC-LOCATION:America/New_York
BEGIN:DAYLIGHT
DTSTART:20250309T030000
TZOFFSETFROM:-0500
TZOFFSETTO:-0400
TZNAME:EDT
END:DAYLIGHT
END:VTIMEZONE
END:VCALENDAR