BEGIN:VCALENDAR
VERSION:2.0
PRODID:-//wp-events-plugin.com//7.2.3.1//EN
TZID:America/New_York
X-WR-TIMEZONE:America/New_York
BEGIN:VEVENT
UID:424@lexcan.org
DTSTART;TZID=America/New_York:20250322T100000
DTEND;TZID=America/New_York:20250322T140000
DTSTAMP:20260114T004422Z
URL:https://lexcan.org/events/sustainability-fair-2025/
SUMMARY:Sustainability Fair 2025
DESCRIPTION:Recording not available.\nReflecting on our Roots....Growing a 
 Resilient Future\nThe fair will highlight topics from clean energy options
  and applications\, electric vehicles\, composting and more! You will hear
  speakers\, be educated on sustainability practices from composting to hea
 t pumps\, and support local organizations. Local vendors will showcase sol
 ar panels to heat pumps\, and you will get a chance to connect with town c
 ommittees. Come and enjoy a community speakers panel\, family friendly act
 ivities\, arts and crafts\, E bike demos and an EV car showcase.\n&nbsp\;\
 n\nDon’t miss out on this special community event! Better yet\, join us 
 as a volunteer!\n\n\n\nSchedule of Events\n\n 	\n10:00 AM to 2:00 PM\nEV S
 howcase and Test Drives – Worthen Rd Parking Lot\nVendor &amp\; Organiza
 tion Tabling – Commons I &amp\; Front Hallway\nMaker Space for Kids\, Ad
 vocacy Postcarding\, Solar Bugs\, Snap Circuits – Commons I\n 	\n10:30 A
 M\n"Songs for the Planet" performed by Clarke and Diamond Middle School Gr
 een Teams – Commons II\n 	\n11:00 AM\nFeatured Speakers: Senator Mike Ba
 rrett &amp\; Maggie Peard\, Town of Lexington Sustainability and Resilienc
 e OfficerCommons II\n 	\n11:00 AM to 1:00 PM\nEV Powered Pancakes – Wort
 hen Road Entryway\n 	\n12:15 PM\nCommunity Voices Panel – Commons II\n 	
 \n1:15 PM\nElectric Landscaping Demo – Worthen Road Entryway\n 	\n1:30 P
 M\nE-Bike Demo – Worthen Road Entryway\n\nOutside / Worthen Rd Parking L
 ot:\n\n 	Test drive an EV - sign up for time slots with Polestar\, VW and 
 Lucid\n 	EV-Powered Pancakes!\n 	Resident EV "Petting Zoo" / Q&amp\;A\n 	E
 lectric lawncare equipment demo station\n\nCommons I Cafeteria &amp\; Fron
 t Hallway\n\n 	Vendor &amp\; Organization showcase\n 	Visit various tables
  to learn more\n 	EV resident owner Q&amp\;A\n 	Assorted kids' activities\
 n\nCommons 2 Cafeteria\n\n 	"Main Stage" Events\n 	Middle School Green Tea
 ms Climate Singalong\n 	Featured speakers: Senator Mike Barrett &amp\; Mag
 gie Peard\, Town of Lexington Sustainability and Resilience Officer\n 	Cit
 izen Panel Q&amp\;A\n 	Makerspace for families / kids\n 	Snap Circuits con
 struction zone\n 	Snacks &amp\; Coffee\n\n\n\n\nWho Will Be There?\nHome H
 eating/Cooling and Solar\n\n 	Earth Tech Systems – green HVAC: heat pump
 s\, geothermal\n 	Forge – heat pumps\n 	HomeWorks – energy assessments
  &amp\; HVAC\n 	Laminar Collective – heat pump sourcing\n 	NEC Solar\n 	
 NetZero Heating and Air Conditioning – heat pump installer\n 	New Englan
 d Solar Hot Water\n 	Revision Energy – solar\n 	Revise\, Inc. – energy
  assessments\, HVAC &amp\; insulation\n 	Green Energy Consumers Alliance \
 n\nWaste and Recycling\n\n 	Black Earth Composting – no-cost curbside co
 mposting\n 	Techcycle Solutions – Bring your electronic waste for recycl
 ing\n\nFood &amp\; Local Retailers\n\n 	Center Goods - Sustainable Goods +
  Refill Store\n 	Food Link – food rescue\n 	Lexington Bee Company\n\nEle
 ctric Cars and E-Bikes\n\n 	Conte Bikes – e-bikes\n 	EV Expert\, John Br
 iggs – learn about EV benefits\n 	EV Owners Panel - EV ownership Q&amp\;
 A\n 	Lucid Motors – EVs\n 	Polestar – EVs\n 	Volkswagen - EVs\n\nFinan
 cing\n\n 	Eastern Bank – financing for green upgrades\n\nLandscape and G
 arden\n\n 	EcoQuiet LawnCare – electric lawn care\n\nTown Departments an
 d Committees\n\n 	Resilient Lexington / Town of Lexington – Town Sustain
 ability and Resilience Office\n 	Sustainable Lexington (Town Committee)\n 
 	Town of Lexington Department of Public Works\n 	Town of Lexington Transpo
 rtation Services\n 	Town Tree Committee\n\nCommunity and School Volunteer 
 Groups\n\n 	ABCD (Action for Boston Community Development)\n 	Brookhaven R
 esidents Climate Change Committee\n 	Citizens for Lexington Conservation\n
  	Community Teamworks – Resources for low-income families (e.g.\, fuel a
 ssistance)\n 	First Parish Climate Action\n 	Friends of Lexington Bikeways
 \n 	LHS Envirothon Team\n 	LPS Green Teams – school composting\n 	Lexing
 ton Climate Action Network (LexCAN)\n 	Lexington Field and Garden Club\n 	
 Lexington HeatSmart – no-cost advisors/resources for home electrificatio
 n\n 	Lexington Living Landscapes\n 	Lexington Zero Waste Collaborative\n 	
 Pocket Forest Plantings – lawn to forest conversion info\n 	Lexington In
 terFaith Environmental Action Group (LIFE)\n 	Lexington Interfaith Garden\
 n 	Stop Hanscom Expansion – Hanscom advocacy\n 	Save Lexington Wildlife\
 n 	Sustainability Champions Clarke\n 	Sustainability Champions Diamond\n\n
 Speakers\n\n 	State Rep. Michelle Ciccolo\n 	MA Senator Mike Barrett\n 	Ma
 ggie Peard\, Town of Lexington Sustainability and Resilience Officer/a&gt\
 ;\n
ATTACH;FMTTYPE=image/jpeg:https://lexcan.org/wp-content/uploads/2025/01/2.
 png
CATEGORIES:**LexCAN Events,*Featured,Community Events
LOCATION:Lexington High School\, 251 Waltham Street\, Lexington\, MA\, Unit
 ed States
X-APPLE-STRUCTURED-LOCATION;VALUE=URI;X-ADDRESS=251 Waltham Street\, Lexing
 ton\, MA\, United States;X-APPLE-RADIUS=100;X-TITLE=Lexington High School:
 geo:0,0
END:VEVENT
BEGIN:VTIMEZONE
TZID:America/New_York
X-LIC-LOCATION:America/New_York
BEGIN:DAYLIGHT
DTSTART:20250309T030000
TZOFFSETFROM:-0500
TZOFFSETTO:-0400
TZNAME:EDT
END:DAYLIGHT
END:VTIMEZONE
END:VCALENDAR