BEGIN:VCALENDAR
VERSION:2.0
PRODID:-//wp-events-plugin.com//7.2.3.1//EN
TZID:America/New_York
X-WR-TIMEZONE:America/New_York
BEGIN:VEVENT
UID:1104@lexcan.org
DTSTART;TZID=America/New_York:20260412T130000
DTEND;TZID=America/New_York:20260412T160000
DTSTAMP:20260407T144728Z
URL:https://lexcan.org/events/salem-kicks-gas/
SUMMARY:Salem Kicks Gas!
DESCRIPTION:Food! Music! Prizes! See\, ride\, and drive cool cars\, e-bikes
  &amp\; scooters\, and eco-friendly lawn equipment. Drive Electric Earth M
 onth is presented by Plug In America\, Electric Vehicle Association\,
  Sierra Club\, EVHybridNoire\, and Drive Electric USA
ATTACH;FMTTYPE=image/jpeg:https://lexcan.org/wp-content/uploads/2026/04/ev
 -showcase.png
CATEGORIES:Community Events,Transportation
LOCATION:77 Willson Street\,  77 Willson Street\, Salem\, MA\, 01970\, Unit
 ed States
X-APPLE-STRUCTURED-LOCATION;VALUE=URI;X-ADDRESS= 77 Willson Street\, Salem\
 , MA\, 01970\, United States;X-APPLE-RADIUS=100;X-TITLE=77 Willson Street:
 geo:0,0
END:VEVENT
BEGIN:VTIMEZONE
TZID:America/New_York
X-LIC-LOCATION:America/New_York
BEGIN:DAYLIGHT
DTSTART:20260308T030000
TZOFFSETFROM:-0500
TZOFFSETTO:-0400
TZNAME:EDT
END:DAYLIGHT
END:VTIMEZONE
END:VCALENDAR