BEGIN:VCALENDAR
VERSION:2.0
PRODID:-//wp-events-plugin.com//7.2.3.1//EN
TZID:America/New_York
X-WR-TIMEZONE:America/New_York
BEGIN:VEVENT
UID:650@lexcan.org
DTSTART;TZID=America/New_York:20250920T110000
DTEND;TZID=America/New_York:20250920T130000
DTSTAMP:20260114T003006Z
URL:https://lexcan.org/events/prepare-the-site-of-the-lincoln-pocket-fores
 t/
SUMMARY:Prepare the site of the Lincoln Pocket Forest!
DESCRIPTION:The Town of Lexington is piloting a Pocket Forest at Lincoln Pa
 rk to help rebuild an ecosystem\, reduce pollution\, and create a future s
 hady area for visitors to relax by! In order to make this a reality\, we n
 eed YOU to help volunteer to make this idea into a reality!\n\nOn Septembe
 r 20\, come to LexCAN's Sun Day Celebration and help with the site prepara
 tion and learn just how simple the process is! We will be removing tape fr
 om cardboard\, then laying on the ground and covering it with a thick laye
 r of wood chips. This process is called "sheet mulching". Whether you onl
 y have time to move a couple buckets of mulch or can stay until the proces
 s done\, please join us!\n\nBring: gardening gloves\, shovels\, pitch fork
 s\, buckets\, empty/clean wheeled compost bins\, and cardboard (uncoated o
 nly).\n\nAll of the above items are optional. We will have extra supplies 
 on-site.\n\nWant to learn more about Pocket Forests? Check out the Town’
 s Website for additional information.
ATTACH;FMTTYPE=image/jpeg:https://lexcan.org/wp-content/uploads/2025/09/Do
 cument-scaled.jpg
CATEGORIES:**LexCAN Events,Community Events,Nature &amp; Ecology
LOCATION:Lincoln Park\, 100 Lincoln Street\, Lexington\, MA\, 02421\, Unite
 d States
X-APPLE-STRUCTURED-LOCATION;VALUE=URI;X-ADDRESS=100 Lincoln Street\, Lexing
 ton\, MA\, 02421\, United States;X-APPLE-RADIUS=100;X-TITLE=Lincoln Park:g
 eo:0,0
END:VEVENT
BEGIN:VTIMEZONE
TZID:America/New_York
X-LIC-LOCATION:America/New_York
BEGIN:DAYLIGHT
DTSTART:20250309T030000
TZOFFSETFROM:-0500
TZOFFSETTO:-0400
TZNAME:EDT
END:DAYLIGHT
END:VTIMEZONE
END:VCALENDAR