BEGIN:VCALENDAR
VERSION:2.0
PRODID:-//wp-events-plugin.com//7.2.3.1//EN
TZID:America/New_York
X-WR-TIMEZONE:America/New_York
BEGIN:VEVENT
UID:1138@lexcan.org
DTSTART;TZID=America/New_York:20260502T090000
DTEND;TZID=America/New_York:20260502T130000
DTSTAMP:20260415T160501Z
URL:https://lexcan.org/events/pick-up-plants-from-middlesex-conservation-d
 istrict-2026-spring-plant-sale-2/
SUMMARY:Pick up plants from Middlesex Conservation District 2026 Spring Pla
 nt Sale
DESCRIPTION:If you ordered plants from the Middlesex Conservation District 
 2026 Spring Plant Sale\, Don't forget to pick them up at Minuteman High Sc
 hool on Friday\, May 1\, 4:00 PM to 7:00 PM or Saturday\, May 2\, 9:00 AM 
 to 1:00 PM.\n\n\nALL ORDERS MUST BE PICKED UP BY 1:00 PM ON SATURDAY\, MAY
  2\, 2026. WE DO NOT HOLD ORDERS ONSITE. PLEASE MAKE SURE YOU CAN PICK UP 
 YOUR ORDER\, OR HAVE SOMEONE ELSE PICK IT UP FOR YOU\, ON THE DAYS AND TIM
 ES MENTIONED ABOVE.\n\n\n\n&nbsp\;
ATTACH;FMTTYPE=image/jpeg:https://lexcan.org/wp-content/uploads/2023/12/MI
 DDLESEX-CONSERVATION-DISTRICT-LOGO.jpg
CATEGORIES:**LexCAN Events,*Featured,Nature &amp; Ecology
LOCATION:Minuteman High School\, 758 Marrett Road\, Lexington\, MA\, United
  States
X-APPLE-STRUCTURED-LOCATION;VALUE=URI;X-ADDRESS=758 Marrett Road\, Lexingto
 n\, MA\, United States;X-APPLE-RADIUS=100;X-TITLE=Minuteman High School:ge
 o:0,0
END:VEVENT
BEGIN:VTIMEZONE
TZID:America/New_York
X-LIC-LOCATION:America/New_York
BEGIN:DAYLIGHT
DTSTART:20260308T030000
TZOFFSETFROM:-0500
TZOFFSETTO:-0400
TZNAME:EDT
END:DAYLIGHT
END:VTIMEZONE
END:VCALENDAR