BEGIN:VCALENDAR
VERSION:2.0
PRODID:-//wp-events-plugin.com//7.2.3.1//EN
TZID:America/New_York
X-WR-TIMEZONE:America/New_York
BEGIN:VEVENT
UID:1159@lexcan.org
DTSTART;TZID=America/New_York:20260503T150000
DTEND;TZID=America/New_York:20260503T163000
DTSTAMP:20260415T212034Z
URL:https://lexcan.org/events/optivide-climate-system-thinking-session/
SUMMARY:Optivide Climate System Thinking Session
DESCRIPTION:REGISTER HERE\n​“If you are thirsty\, drinking more seawate
 r does not help.”\n​Climate change is a growing\, urgent global proble
 m that will increase the number of irreversible disasters if we don’t ta
 ke action now.\n​Oftentimes\, climate stakeholders may prefer the direct
  positive climate impacts\; however\, to solve the climate problem at scal
 e in time with limited resources\, we need system thinking to multi-solve 
 the climate problem. Without systemic thinking\, today's climate solutions
  will become tomorrow's problems.\n​Don't miss the chance to explore the
  system thinking in the climate ecosystem!
ATTACH;FMTTYPE=image/jpeg:https://lexcan.org/wp-content/uploads/2026/04/4b
 a3cafe-1bc0-458d-a105-b89c8b5f89f9.avif
CATEGORIES:Advocacy,Community Events,Educational,Energy
LOCATION:https://luma.com/4zkwlxwd
END:VEVENT
BEGIN:VTIMEZONE
TZID:America/New_York
X-LIC-LOCATION:America/New_York
BEGIN:DAYLIGHT
DTSTART:20260308T030000
TZOFFSETFROM:-0500
TZOFFSETTO:-0400
TZNAME:EDT
END:DAYLIGHT
END:VTIMEZONE
END:VCALENDAR