BEGIN:VCALENDAR
VERSION:2.0
PRODID:-//wp-events-plugin.com//7.2.3.1//EN
TZID:America/New_York
X-WR-TIMEZONE:America/New_York
BEGIN:VEVENT
UID:1156@lexcan.org
DTSTART;TZID=America/New_York:20260427T190000
DTEND;TZID=America/New_York:20260427T203000
DTSTAMP:20260415T210203Z
URL:https://lexcan.org/events/newtons-spring-birding-migration-presentatio
 n/
SUMMARY:Newton’s Spring Birding Migration Presentation
DESCRIPTION:REGISTER HERE\n\nLate April and early May are exciting times fo
 r birding as spring migrants pass through Newton and resident birds return
  to nest here.  Come join us for a lively presentation on Newton birding 
 hotspots and what birds we might expect to see locally in the coming weeks
  of migration season.  Learn about the varied sights and sounds of colorf
 ul wood warblers\, orioles\, thrushes\, tanagers\, and vireos.  Whether y
 ou’re a seasoned pro or just someone who wonders what that bright yellow
  bird in the backyard is\, this is for you!\nPete Gilmore\nOur guide for t
 he evening is Pete Gilmore who has been birding since 1951.  Pete\, a ret
 ired Northeastern math professor\,  serves on the board of the Newton Con
 servators and has led annual walks at Cold Spring Park\, helped organize t
 he Newton Christmas Bird Count\, written numerous articles on Newton birdi
 ng\, was active with the Brookline Bird Club as its field trip coordinator
 \, and is an amazing bird photographer.\n\n\nThis free informative present
 ation takes place on Monday\, April 27 from 7:00-8:15 p.m. at the Newto
 n Free Library (330 Homer St) and is cosponsored by Newton Parks\, Recrea
 tion &amp\; Culture and  Newton Conservators.  Attendance is free but re
 gistration is requested through Newton Parks &amp\; Recreation.  Please r
 egister online or call 617-796-1506.
ATTACH;FMTTYPE=image/jpeg:https://lexcan.org/wp-content/uploads/2026/04/bi
 rd-migration.webp
CATEGORIES:Community Events,Educational,Nature &amp; Ecology
LOCATION:Newton Free Library\, 330 Homer St\, Newton\, MA\, 02459\, United 
 States
X-APPLE-STRUCTURED-LOCATION;VALUE=URI;X-ADDRESS=330 Homer St\, Newton\, MA\
 , 02459\, United States;X-APPLE-RADIUS=100;X-TITLE=Newton Free Library:geo
 :0,0
END:VEVENT
BEGIN:VTIMEZONE
TZID:America/New_York
X-LIC-LOCATION:America/New_York
BEGIN:DAYLIGHT
DTSTART:20260308T030000
TZOFFSETFROM:-0500
TZOFFSETTO:-0400
TZNAME:EDT
END:DAYLIGHT
END:VTIMEZONE
END:VCALENDAR