BEGIN:VCALENDAR
VERSION:2.0
PRODID:-//wp-events-plugin.com//7.2.3.1//EN
TZID:America/New_York
X-WR-TIMEZONE:America/New_York
BEGIN:VEVENT
UID:1143@lexcan.org
DTSTART;TZID=America/New_York:20260624T173000
DTEND;TZID=America/New_York:20260624T193000
DTSTAMP:20260415T185935Z
URL:https://lexcan.org/events/native-plant-trust-webinar-balancing-native-
 and-non-native-plantings/
SUMMARY:Native Plant Trust Webinar: Balancing Native and Non-Native Plantin
 gs
DESCRIPTION:REGISTER HERE FOR $25\nHear practical\, approachable tips for i
 ncorporating native plants into your landscape alongside non-native favori
 tes. Native plants play a critical role in supporting pollinators and wild
 life\, strengthening biodiversity\, and creating plant communities adapted
  to local conditions. Non-native species contribute structure\, seasonal i
 nterest and continuity. Learn how to integrate them for a balanced\, thriv
 ing landscape.
ATTACH;FMTTYPE=image/jpeg:https://lexcan.org/wp-content/uploads/2025/12/Sc
 reenshot-2025-12-01-at-5.46.45-PM.png
CATEGORIES:Educational,Nature &amp; Ecology,Virtual
LOCATION:https://www.nativeplanttrust.org/events/balancing-native-and-non-n
 ative-plantings/
END:VEVENT
BEGIN:VTIMEZONE
TZID:America/New_York
X-LIC-LOCATION:America/New_York
BEGIN:DAYLIGHT
DTSTART:20260308T030000
TZOFFSETFROM:-0500
TZOFFSETTO:-0400
TZNAME:EDT
END:DAYLIGHT
END:VTIMEZONE
END:VCALENDAR