BEGIN:VCALENDAR
VERSION:2.0
PRODID:-//wp-events-plugin.com//7.2.3.1//EN
TZID:America/New_York
X-WR-TIMEZONE:America/New_York
BEGIN:VEVENT
UID:1009@lexcan.org
DTSTART;TZID=America/New_York:20260311T110000
DTEND;TZID=America/New_York:20260311T110000
DTSTAMP:20260227T175039Z
URL:https://lexcan.org/events/municipal-vulnerability-preparedness-1-mvp-2
 -0-seed-projects-lessons-from-the-field/
SUMMARY:Municipal Vulnerability Preparedness #1: MVP 2.0 Seed Projects – 
 Lessons from the Field
DESCRIPTION:REGISTER HERE\n\n\nFollowing the launch of the Municipal Vulner
 ability Preparedness (MVP) 2.0 program\, several communities have complete
 d their initial "Seed Projects." This session will feature success stories
  from these local initiatives\, highlighting how towns moved from communit
 y engagement to tangible resilience actions.\n\n
ATTACH;FMTTYPE=image/jpeg:https://lexcan.org/wp-content/uploads/2026/02/Sc
 reenshot-2026-02-27-at-12.50.03-PM.png
CATEGORIES:Community Events,Educational,Virtual
LOCATION:https://zoom.us/webinar/register/WN_xJ_KWLX6SZmlunpplDSihA#/regist
 ration
END:VEVENT
BEGIN:VTIMEZONE
TZID:America/New_York
X-LIC-LOCATION:America/New_York
BEGIN:DAYLIGHT
DTSTART:20260308T030000
TZOFFSETFROM:-0500
TZOFFSETTO:-0400
TZNAME:EDT
END:DAYLIGHT
END:VTIMEZONE
END:VCALENDAR