BEGIN:VCALENDAR
VERSION:2.0
PRODID:-//wp-events-plugin.com//7.2.3.1//EN
TZID:America/New_York
X-WR-TIMEZONE:America/New_York
BEGIN:VEVENT
UID:1171@lexcan.org
DTSTART;TZID=America/New_York:20260519T110000
DTEND;TZID=America/New_York:20260519T110000
DTSTAMP:20260421T144546Z
URL:https://lexcan.org/events/multi-town-gas-leaks-initiative-may-regulato
 ry-edition/
SUMMARY:Multi-Town Gas Leaks Initiative (May Regulatory Edition)
DESCRIPTION:REGISTER HERE\n\n\n\n\n\nJoin us for our second of two meetings
  this spring! DPU's 2026 GSEP Order and the gas utility 2026 GREC filings 
 are expected by beginning of May. We will focus our discussion on summariz
 ing the major GSEP developments and any impacts of DPU's ruling on municip
 al and grassroots efforts.\n\n\n\n\n
ATTACH;FMTTYPE=image/jpeg:https://lexcan.org/wp-content/uploads/2026/04/Sc
 reenshot-2026-04-21-at-10.45.38-AM.png
CATEGORIES:Advocacy,Community Events,Educational,Energy
LOCATION:https://us06web.zoom.us/meeting/register/Ar890LUpQVeQUeS1zMqSlA#/r
 egistration
END:VEVENT
BEGIN:VTIMEZONE
TZID:America/New_York
X-LIC-LOCATION:America/New_York
BEGIN:DAYLIGHT
DTSTART:20260308T030000
TZOFFSETFROM:-0500
TZOFFSETTO:-0400
TZNAME:EDT
END:DAYLIGHT
END:VTIMEZONE
END:VCALENDAR