BEGIN:VCALENDAR
VERSION:2.0
PRODID:-//wp-events-plugin.com//7.2.3.1//EN
TZID:America/New_York
X-WR-TIMEZONE:America/New_York
BEGIN:VEVENT
UID:1154@lexcan.org
DTSTART;TZID=America/New_York:20260422T180000
DTEND;TZID=America/New_York:20260422T193000
DTSTAMP:20260415T204653Z
URL:https://lexcan.org/events/mt-cuba-center-botanizing-the-best-hobby-you
 ve-never-heard-of-online/
SUMMARY:Mt. Cuba Center: Botanizing: The Best Hobby You’ve Never Heard of
  (Online)
DESCRIPTION:REGISTER HERE FOR $25\n\nBotanizing is basically bird watching 
 but with plants: The practice of going out to see cool\, beautiful\, and
  exciting native plants in their wild habitats. Spending time botanizing
  in parks\, natural areas\, and even roadsides\, is not just fun\, it is a
  great way to appreciate and celebrate the beauty of the natural world and
  can even make you a better gardener. Gather tips on how to get started bo
 tanizing both at home and when traveling\, and how you can take lessons fr
 om natural plant communities and bring them back to your home garden.\n\nJ
 oin live to participate in our online learning community or watch after as
  your schedule allows. All registrants will receive a recording of the cla
 ss with access to view the class for 30 days after the live session.\n\nTh
 is program takes place online Wednesday\, April 22\, 2026.
ATTACH;FMTTYPE=image/jpeg:https://lexcan.org/wp-content/uploads/2026/04/Fi
 eld-Identification-of-Wild-Flowers-Visitor-Gardens-960x691-1.jpg
CATEGORIES:Educational,Nature &amp; Ecology,Virtual
LOCATION:https://mtcubacenter.org/event/botanizing-the-best-hobby-you%27ve-
 never-heard-of-online/
END:VEVENT
BEGIN:VTIMEZONE
TZID:America/New_York
X-LIC-LOCATION:America/New_York
BEGIN:DAYLIGHT
DTSTART:20260308T030000
TZOFFSETFROM:-0500
TZOFFSETTO:-0400
TZNAME:EDT
END:DAYLIGHT
END:VTIMEZONE
END:VCALENDAR