BEGIN:VCALENDAR
VERSION:2.0
PRODID:-//wp-events-plugin.com//7.2.3.1//EN
TZID:America/New_York
X-WR-TIMEZONE:America/New_York
BEGIN:VEVENT
UID:1098@lexcan.org
DTSTART;TZID=America/New_York:20260413T120000
DTEND;TZID=America/New_York:20260413T133000
DTSTAMP:20260403T144058Z
URL:https://lexcan.org/events/mcan-webinar-the-carbon-cost-of-the-internet
 -with-professor-eric-masanet/
SUMMARY:MCAN Webinar: “The Carbon Cost of the Internet” with Professor 
 Eric Masanet
DESCRIPTION:REGISTER HERE\n\n\nDo you know the carbon impact of your intern
 et usage?\n\nIn 2023\, data centers enabling digital activity accounted fo
 r 4.4% of American energy consumption. The growth of AI is expected to cau
 se that to double or triple by 2028.\n\nWhat can climate advocates do to h
 elp reduce this carbon footprint?\n\nJoin us on 4/13 at 12:00 PM for a vir
 tual presentation on these critical questions by Professor Eric Masanet\
 , an international authority on data center energy usage.\n\nWe will prese
 nt and have a Q&amp\;A for the first hour\, followed by open discussion fr
 om 1-1:30pm.\n\n
ATTACH;FMTTYPE=image/jpeg:https://lexcan.org/wp-content/uploads/2026/04/Er
 ic_Masanet_Program.png
CATEGORIES:Educational,Energy,Virtual
LOCATION:https://www.massclimateaction.org/april_13_networks_meeting?utm_ca
 mpaign=april_networks&utm_medium=email&utm_source=massclimateaction
END:VEVENT
BEGIN:VTIMEZONE
TZID:America/New_York
X-LIC-LOCATION:America/New_York
BEGIN:DAYLIGHT
DTSTART:20260308T030000
TZOFFSETFROM:-0500
TZOFFSETTO:-0400
TZNAME:EDT
END:DAYLIGHT
END:VTIMEZONE
END:VCALENDAR