BEGIN:VCALENDAR
VERSION:2.0
PRODID:-//wp-events-plugin.com//7.2.3.1//EN
TZID:America/New_York
X-WR-TIMEZONE:America/New_York
BEGIN:VEVENT
UID:1119@lexcan.org
DTSTART;TZID=America/New_York:20260526T190000
DTEND;TZID=America/New_York:20260526T200000
DTSTAMP:20260407T173004Z
URL:https://lexcan.org/events/mapn-webinar-little-bugs-in-the-big-city-urb
 an-pollinator-habitat-gardening/
SUMMARY:MAPN Webinar: Little Bugs in the Big City: Urban Pollinator Habitat
  Gardening
DESCRIPTION:REGISTER HERE\n\nWith urban real estate at such a premium\, how
  do our smallest neighbors - especially pollinating insects - make their w
 ay? What can we do to help them survive and thrive? In the concrete jungle
 \, is it worth it to even try? Over two decades\, the speaker has transfor
 med a barren conventional landscape into a vibrant example of urban garden
 ing for biodiversity. Using their garden as an example\, they will review 
 some typical challenges for urban gardeners\, and explain how to find and 
 create habitat opportunities in city gardens. If you plant it\, they will 
 come!\n
ATTACH;FMTTYPE=image/jpeg:https://lexcan.org/wp-content/uploads/2026/04/Sc
 reenshot-2026-04-07-at-1.28.43-PM.png
CATEGORIES:Educational,Nature &amp; Ecology,Virtual
LOCATION:https://grownativemass.org/Our-Programs/Calendar-of-Events/Little-
 Bugs-in-the-Big-City-Urban-Pollinator-Habitat-Gardening
END:VEVENT
BEGIN:VTIMEZONE
TZID:America/New_York
X-LIC-LOCATION:America/New_York
BEGIN:DAYLIGHT
DTSTART:20260308T030000
TZOFFSETFROM:-0500
TZOFFSETTO:-0400
TZNAME:EDT
END:DAYLIGHT
END:VTIMEZONE
END:VCALENDAR