BEGIN:VCALENDAR
VERSION:2.0
PRODID:-//wp-events-plugin.com//7.2.3.1//EN
TZID:America/New_York
X-WR-TIMEZONE:America/New_York
BEGIN:VEVENT
UID:1017@lexcan.org
DTSTART;TZID=America/New_York;VALUE=DATE:20260310
DTEND;TZID=America/New_York;VALUE=DATE:20260510
DTSTAMP:20260325T193131Z
URL:https://lexcan.org/events/lexington-living-landscapes-and-lexington-co
 nservation-division-native-plant-sale/
SUMMARY:Lexington Living Landscapes and Lexington Conservation Division Nat
 ive Plant Sale
DESCRIPTION:Lexington Living Landscapes and the Lexington Conservation Divi
 sion are teaming up to offer native plants for sale this spring. The sale 
 includes a Sun Kit with plants that do well in sun to partial sun and a Sh
 ade Kit with plants that prefer filtered light to shade. The plants are gr
 own at a certified organic native perennial farm in New Hampshire and (exc
 ept for the plugs) come in quart-size biodegradable pots.\n\nPlants must b
 e pre-ordered through the Town's Recreation Department and payment is by c
 redit card only. The sale will go live on March 10\, and the plants will b
 e available for pick-up the morning of Saturday\, May 9th from 9:00 - 11:0
 0 AM at the Lexington Public Safety Building at 201 Bedford Street.\n\nFor
  further details\, including the species offered\, view the Native Plant 
 Sale page. Questions? Email lexlivingland@gmail.com.
ATTACH;FMTTYPE=image/jpeg:https://lexcan.org/wp-content/uploads/2026/03/un
 named-24.png
CATEGORIES:Nature &amp; Ecology,Virtual
END:VEVENT
BEGIN:VTIMEZONE
TZID:America/New_York
X-LIC-LOCATION:America/New_York
BEGIN:DAYLIGHT
DTSTART:20260308T030000
TZOFFSETFROM:-0500
TZOFFSETTO:-0400
TZNAME:EDT
END:DAYLIGHT
END:VTIMEZONE
END:VCALENDAR