BEGIN:VCALENDAR
VERSION:2.0
PRODID:-//wp-events-plugin.com//7.2.3.1//EN
TZID:America/New_York
X-WR-TIMEZONE:America/New_York
BEGIN:VEVENT
UID:423@lexcan.org
DTSTART;TZID=America/New_York:20250114T190000
DTEND;TZID=America/New_York:20250114T203000
DTSTAMP:20260114T003904Z
URL:https://lexcan.org/events/lexcan-annual-meeting-featuring-senator-mike
 -barrett/
SUMMARY:LexCAN Annual Meeting featuring Senator Mike Barrett
DESCRIPTION:View Recording of this Event\n\nPlease join LexCAN (Lexington C
 limate Action Network) for their Annual Meeting for a talk and conversatio
 n with Senator Mike Barrett next Tuesday\, January 14th from 7-8:30PM at t
 he Lexington Police Station Community Room\, 1575 Mass Ave\, Lexington. Se
 nator Barrett will talk about our new climate bill and the future of clima
 te legislation in MA followed by a Q&amp\;A. \n\nLight refreshments will b
 e provided. Arrive at 6:45 for some time for chatting and snacks as we wil
 l start promptly at 7 pm. \n\nRSVP requested. \, \n\nLexCAN is a volunt
 eer-led\, 501(c)(3) organization of Lexington residents who work together\
 , and with other town organizations\, to promote climate solutions\, clima
 te justice\, and a sustainable future. As we work toward achieving livable
 \, equitable\, and resilient communities\, LexCAN promotes a culture of in
 clusion. Join us as we work toward our goals.\n\n[embed]https://www.youtub
 e.com/watch?v=FpC_Lp_Kq_0[/embed]\n\n&nbsp\;\n\n&nbsp\;
ATTACH;FMTTYPE=image/jpeg:https://lexcan.org/wp-content/uploads/2024/12/Mi
 ke-addressing-kids-scaled.jpg
CATEGORIES:**LexCAN Events,*Featured,Advocacy,Community Events,Educational
END:VEVENT
BEGIN:VTIMEZONE
TZID:America/New_York
X-LIC-LOCATION:America/New_York
BEGIN:STANDARD
DTSTART:20241103T010000
TZOFFSETFROM:-0400
TZOFFSETTO:-0500
TZNAME:EST
END:STANDARD
END:VTIMEZONE
END:VCALENDAR