BEGIN:VCALENDAR
VERSION:2.0
PRODID:-//wp-events-plugin.com//7.2.3.1//EN
TZID:America/New_York
X-WR-TIMEZONE:America/New_York
BEGIN:VEVENT
UID:372@lexcan.org
DTSTART;TZID=America/New_York:20240905T190000
DTEND;TZID=America/New_York:20240905T200000
DTSTAMP:20251006T192034Z
URL:https://lexcan.org/events/lessons-fron-the-climate-anxiety-booth-with-
 author-kate-schapira/
SUMMARY:Lessons from the Climate Anxiety Booth with Author Kate Schapira
DESCRIPTION:VIRTUAL: REGISTER\n\nKate Schapira\, author of Lessons from the
  Climate Anxiety Counseling Booth: How to Live with Care and Purpose in an
  Endangered World\, will share methods for living with our emotional respo
 nses to climate realities and using them as guides to connection and actio
 n. In her home town of Providence\, RI\, Schapira put up a booth to talk a
 bout climate change with concerned and anxious members of her community. T
 housands of conversations later\, she distills what she's learned into a b
 ook that offers both empathy and practical suggestions for addressing clim
 ate change with the help of others. This talk will focus on identifying an
 d activating the potential for increasing each other's ability to contribu
 te to a livable present and future in our working and community lives. Sch
 apira will be joined by members of Lexington Climate Action Network\, who 
 can offer concrete ways to work and care for the living world in the Lexin
 gton area and beyond.\n\n\n\nRegistration is required.\n\nCopies of the au
 thor's book are available for purchase through Book Ends in Winchester.\
 n\nPresented in partnership with Lexington Climate Action Network (LexCAN)
 .\n\nPresented in partnership with a multitude of MA libraries.\n\nThis pr
 ogram is made possible by the generous donors to the Cary Library Foundati
 on.\n\n\n[embed]https://www.youtube.com/watch?v=UXRH6mQ2Zdg[/embed]\n\n\n\
 n\n\n&nbsp\;
ATTACH;FMTTYPE=image/jpeg:https://lexcan.org/wp-content/uploads/2024/08/Cl
 imate-Anxiety.png
CATEGORIES:**LexCAN Events
END:VEVENT
BEGIN:VTIMEZONE
TZID:America/New_York
X-LIC-LOCATION:America/New_York
BEGIN:DAYLIGHT
DTSTART:20240310T030000
TZOFFSETFROM:-0500
TZOFFSETTO:-0400
TZNAME:EDT
END:DAYLIGHT
END:VTIMEZONE
END:VCALENDAR