BEGIN:VCALENDAR
VERSION:2.0
PRODID:-//wp-events-plugin.com//7.2.3.1//EN
TZID:America/New_York
X-WR-TIMEZONE:America/New_York
BEGIN:VEVENT
UID:958@lexcan.org
DTSTART;TZID=America/New_York:20260506T180000
DTEND;TZID=America/New_York:20260506T193000
DTSTAMP:20260128T013413Z
URL:https://lexcan.org/events/intro-to-bike-maintanence/
SUMMARY:Intro to Bike Maintanence
DESCRIPTION:REGISTER HERE\n\nNot sure how to maintain your bike? Come to th
 is one-hour workshop\, learn how to: do a pre-ride inspection\, clean your
  bike\, lube cables and chain\, grease seat post\, check necessary bolts\,
  and check tires and other rubber parts for dry rot and wear\, and know wh
 en it is time to see a bike mechanic.\n\nBring your bike\, wear comfortabl
 e clothes\, and be prepared to get a little dirty.
ATTACH;FMTTYPE=image/jpeg:https://lexcan.org/wp-content/uploads/2026/01/Sc
 reenshot-2026-01-27-at-8.30.32-PM.png
CATEGORIES:Community Events,Educational,Transportation
LOCATION:Lexington Community Center\, 39 Marrett Road\, Lexington\, United 
 States
X-APPLE-STRUCTURED-LOCATION;VALUE=URI;X-ADDRESS=39 Marrett Road\, Lexington
 \, United States;X-APPLE-RADIUS=100;X-TITLE=Lexington Community Center:geo
 :0,0
END:VEVENT
BEGIN:VTIMEZONE
TZID:America/New_York
X-LIC-LOCATION:America/New_York
BEGIN:DAYLIGHT
DTSTART:20260308T030000
TZOFFSETFROM:-0500
TZOFFSETTO:-0400
TZNAME:EDT
END:DAYLIGHT
END:VTIMEZONE
END:VCALENDAR