BEGIN:VCALENDAR
VERSION:2.0
PRODID:-//wp-events-plugin.com//7.2.3.1//EN
TZID:America/New_York
X-WR-TIMEZONE:America/New_York
BEGIN:VEVENT
UID:1167@lexcan.org
DTSTART;TZID=America/New_York:20260510T130000
DTEND;TZID=America/New_York:20260510T140000
DTSTAMP:20260417T211653Z
URL:https://lexcan.org/events/how-to-fly-better-in-the-climate-crisis/
SUMMARY:How to Fly Better in the Climate Crisis
DESCRIPTION:REGISTER HERE\n\n\n\n\n\n​​Forget your carbon footprint\; l
 et's talk about your Bumprint*.\n​​Join Captain Katie for an eye-openi
 ng discussion about the real climate cost of air travel\, why it’s still
  growing so rapidly despite airline 'net-zero' promises\, and an explorati
 on of the many ways we can reduce our carbon bumprints when we travel.\n\n
 Let's use our 'passenger power' to drive much-needed environmental reform 
 in the aviation industry.\n\n*The climate impact of sitting in an airplane
  seat.\n​By registering for this event\, you agree to share your registr
 ation information with the organizers of Boston Climate Week\n\n\n\n\n\n
ATTACH;FMTTYPE=image/jpeg:https://lexcan.org/wp-content/uploads/2026/04/b3
 91676e-e4a0-40d4-ae1b-4d1d621b8bc4.avif
CATEGORIES:Community Events,Educational,Transportation,Virtual
LOCATION:https://luma.com/xnst5nac
END:VEVENT
BEGIN:VTIMEZONE
TZID:America/New_York
X-LIC-LOCATION:America/New_York
BEGIN:DAYLIGHT
DTSTART:20260308T030000
TZOFFSETFROM:-0500
TZOFFSETTO:-0400
TZNAME:EDT
END:DAYLIGHT
END:VTIMEZONE
END:VCALENDAR