BEGIN:VCALENDAR
VERSION:2.0
PRODID:-//wp-events-plugin.com//7.2.3.1//EN
TZID:America/New_York
X-WR-TIMEZONE:America/New_York
BEGIN:VEVENT
UID:1160@lexcan.org
DTSTART;TZID=America/New_York:20260504T140000
DTEND;TZID=America/New_York:20260504T160000
DTSTAMP:20260415T214600Z
URL:https://lexcan.org/events/heet-event-massachusetts-launches-a-thermal-
 revolution/
SUMMARY:HEET Event: Massachusetts Launches a Thermal Revolution
DESCRIPTION:REGISTER HERE\n​Join Boston-based Thermal Energy Innovation H
 ub\, HEET\, for an inside look at how Massachusetts is leading a national 
 movement to tap the thermal energy all around us for a more affordable fut
 ure that provides heating and cooling to all.\n​This session will explor
 e our multidisciplinary approach driving this shift\, including some key H
 EET geothermal energy network initiatives:\n- Workforce Development: Tackl
 ing the "driller bottleneck" by incubating a Geothermal Center of Excellen
 ce and launching an open-source curriculum for the next generation of inst
 allers.\n- Project Pipeline: Accelerating deployment through funded feasib
 ility studies\, curated advisory and technical support\, and third-party d
 esign reviews.\n- Science &amp\; Research: "Learning from the ground up" w
 ith real-world data and iterative research projects – wrapped around the
  Massachusetts utility projects.\n- Policy &amp\; Leadership: Redefining p
 ublic thermal energy as a shared resource\, a Thermal Commons\, that can u
 nlock affordable energy that is wasted all around us.\n​Be part of the t
 hermal revolution. Whether you are a policymaker\, an investor seeking cle
 an energy projects\, or a community advocate\, learn how HEET is leading t
 ransformative change through growing and interconnecting stakeholder netwo
 rks with research and development to drive adoption of thermal energy inno
 vation\, changing how we heat and cool our world.
ATTACH;FMTTYPE=image/jpeg:https://lexcan.org/wp-content/uploads/2026/04/cc
 86ed26-3139-4587-a73e-6c0ae2a6751b.avif
CATEGORIES:Advocacy,Community Events,Educational,Energy
LOCATION:2 Atlantic Ave\, 2 Atlantic Ave\, Boston\, MA\, 02110\, United Sta
 tes
X-APPLE-STRUCTURED-LOCATION;VALUE=URI;X-ADDRESS=2 Atlantic Ave\, Boston\, M
 A\, 02110\, United States;X-APPLE-RADIUS=100;X-TITLE=2 Atlantic Ave:geo:0,
 0
END:VEVENT
BEGIN:VTIMEZONE
TZID:America/New_York
X-LIC-LOCATION:America/New_York
BEGIN:DAYLIGHT
DTSTART:20260308T030000
TZOFFSETFROM:-0500
TZOFFSETTO:-0400
TZNAME:EDT
END:DAYLIGHT
END:VTIMEZONE
END:VCALENDAR