BEGIN:VCALENDAR
VERSION:2.0
PRODID:-//wp-events-plugin.com//7.2.3.1//EN
TZID:America/New_York
X-WR-TIMEZONE:America/New_York
BEGIN:VEVENT
UID:1011@lexcan.org
DTSTART;TZID=America/New_York:20260317T190000
DTEND;TZID=America/New_York:20260317T203000
DTSTAMP:20260315T153205Z
URL:https://lexcan.org/events/habitat-patches-info-session/
SUMMARY:Habitat Patches - Info Session
DESCRIPTION:REGISTER HERE\nWhat if the lawn you’ve been meaning to do som
 ething about is actually a piece of a much larger ecological puzzle — an
 d the math works out in our favor?\nOn Tuesday March 17 at 7pm\, LexCAN is
  hosting a free virtual talk on Habitat Patches with Rachel Summers — pl
 ant nerd\, climate organizer\, and the person behind the pocket forest at 
 Lincoln Park.\n\nThe core idea: standardized\, pre-designed native plantin
 gs small enough for any suburban yard\, replicable enough to spread across
  a neighborhood\, and together capable of functioning as distributed ecolo
 gical infrastructure. Think IKEA-fication of habitat restoration — but w
 hat comes in the kit is a plant community\, not particleboard.\n\nRachel w
 ill make the case for why this approach matters\, show what’s already in
  progress in Lexington\, and share how to get involved.\nFree and virtual.
ATTACH;FMTTYPE=image/jpeg:https://lexcan.org/wp-content/uploads/2026/02/Ha
 bitat-Patch-Graphic-6.png
CATEGORIES:**LexCAN Events,*Featured,Educational,Nature &amp;
 Ecology,Virtual
LOCATION:https://us02web.zoom.us/meeting/register/KmCiiSeNQeKKOz4VDJ0r2w#/r
 egistration
END:VEVENT
BEGIN:VTIMEZONE
TZID:America/New_York
X-LIC-LOCATION:America/New_York
BEGIN:DAYLIGHT
DTSTART:20260308T030000
TZOFFSETFROM:-0500
TZOFFSETTO:-0400
TZNAME:EDT
END:DAYLIGHT
END:VTIMEZONE
END:VCALENDAR