BEGIN:VCALENDAR
VERSION:2.0
PRODID:-//wp-events-plugin.com//7.2.3.1//EN
TZID:America/New_York
X-WR-TIMEZONE:America/New_York
BEGIN:VEVENT
UID:1166@lexcan.org
DTSTART;TZID=America/New_York:20260502T100000
DTEND;TZID=America/New_York:20260502T160000
DTSTAMP:20260417T142916Z
URL:https://lexcan.org/events/geomit-showcase-implementing-thermal-energy-
 networks-on-campus-beyond/
SUMMARY:Geo@MIT Showcase: Implementing Thermal Energy Networks on Campus & 
 Beyond
DESCRIPTION:REGISTER HERE\n\n\nYou are invited to Geo@MIT’s inaugural sho
 wcase “Implementing Thermal Energy Networks on Campus &amp\; Beyond” o
 n May 2nd\, 2026!\nBuildings are one of the top emitting sectors\, contrib
 uting to 40% of greenhouse gas emissions. Clusters of buildings like unive
 rsities can be the top emitters in a community. Universities and cities ac
 ross the US are working hard to decarbonize\, and are looking into technol
 ogies like thermal energy networks (TENs). This showcase brings together s
 tudents\, campus administrators\, government officials\, industry professi
 onals\, and community members to discuss the consideration and implementat
 ion of Thermal Energy Networks on campuses for rapid\, cost-effective deca
 rbonization. We aim to demystify decarbonization\, encourage student and c
 ommunity action\, and foster dialogue and collaboration!\n\nThe showcase w
 ill run from 10am to 4pm EST and will be held at MIT’s Wong Auditorium i
 n the Tang Center (70 Memorial Drive\, Cambridge). You can find our draft 
 program here\, including an exciting lineup of panelists and student poste
 r presentations. Lunch will be provided. Some programming will have a virt
 ual option if there is enough interest.\n
ATTACH;FMTTYPE=image/jpeg:https://lexcan.org/wp-content/uploads/2026/04/Sc
 reenshot-2026-04-17-at-10.28.33-AM.png
CATEGORIES:Advocacy,Community Events,Educational,Energy
LOCATION:Wong Auditorium at Tang Center Wong Auditorium at Tang Center\, 70
  Memorial Drive\, Cambridge\, MA\, United States
X-APPLE-STRUCTURED-LOCATION;VALUE=URI;X-ADDRESS=70 Memorial Drive\, Cambrid
 ge\, MA\, United States;X-APPLE-RADIUS=100;X-TITLE=Wong Auditorium at Tang
  Center Wong Auditorium at Tang Center:geo:0,0
END:VEVENT
BEGIN:VTIMEZONE
TZID:America/New_York
X-LIC-LOCATION:America/New_York
BEGIN:DAYLIGHT
DTSTART:20260308T030000
TZOFFSETFROM:-0500
TZOFFSETTO:-0400
TZNAME:EDT
END:DAYLIGHT
END:VTIMEZONE
END:VCALENDAR