BEGIN:VCALENDAR
VERSION:2.0
PRODID:-//wp-events-plugin.com//7.2.3.1//EN
TZID:America/New_York
X-WR-TIMEZONE:America/New_York
BEGIN:VEVENT
UID:1146@lexcan.org
DTSTART;TZID=America/New_York:20260613T100000
DTEND;TZID=America/New_York:20260613T153000
DTSTAMP:20260415T191627Z
URL:https://lexcan.org/events/garden-tour-inspirational-gardens-of-lexingt
 on/
SUMMARY:Garden Tour: Inspirational Gardens of Lexington
DESCRIPTION:BUY TICKETS HERE FOR $30\n\nYou are invited to visit private Le
 xington gardens. Each garden presents the owners’ creativity and design.
  All the gardens on the tour are maintained by the owners.
ATTACH;FMTTYPE=image/jpeg:https://lexcan.org/wp-content/uploads/2026/04/Sc
 reenshot-2026-04-15-at-3.16.06-PM.png
CATEGORIES:Community Events,Educational,Nature &amp; Ecology
END:VEVENT
BEGIN:VTIMEZONE
TZID:America/New_York
X-LIC-LOCATION:America/New_York
BEGIN:DAYLIGHT
DTSTART:20260308T030000
TZOFFSETFROM:-0500
TZOFFSETTO:-0400
TZNAME:EDT
END:DAYLIGHT
END:VTIMEZONE
END:VCALENDAR