BEGIN:VCALENDAR
VERSION:2.0
PRODID:-//wp-events-plugin.com//7.2.3.1//EN
TZID:America/New_York
X-WR-TIMEZONE:America/New_York
BEGIN:VEVENT
UID:972@lexcan.org
DTSTART;TZID=America/New_York:20260617T100000
DTEND;TZID=America/New_York:20260617T113000
DTSTAMP:20260203T231449Z
URL:https://lexcan.org/events/free-oig-academy-webinar-ev-charging-infrast
 ructure-procurement-4/
SUMMARY:Free OIG Academy Webinar: EV & Charging Infrastructure Procurement
DESCRIPTION:REGISTER HERE\n\nThe Office of the Inspector General (OIG) is o
 ffering a free webinar through its OIG Academy on Electric Vehicles and E
 V Charging Infrastructure: Purchasing Strategies Under Chapter 30B and Sta
 tewide Contracts. New legislation now provides municipal organizations wit
 h a path to procure Electric Vehicles (EVs) and the installation of EV cha
 rging infrastructure in a single\, combined procurement under Chapter 30B.
  This joint webinar with the Operational Services Division (OSD) will assi
 st municipalities in navigating these changes\, which took effect in Febru
 ary 2025.
ATTACH;FMTTYPE=image/jpeg:https://lexcan.org/wp-content/uploads/2026/02/pr
 ecious-madubuike-N2Td7KpIvYc-unsplash-scaled.jpg
CATEGORIES:Educational,Energy,Transportation,Virtual
LOCATION:https://maoigacademy.geniussis.com/catalog/course/61/electric-vehi
 cles-electric-vehicle-charging-infrastructure-purchasing-strategies-under-
 30-b-and-statewide-contracts/sections
END:VEVENT
BEGIN:VTIMEZONE
TZID:America/New_York
X-LIC-LOCATION:America/New_York
BEGIN:DAYLIGHT
DTSTART:20260308T030000
TZOFFSETFROM:-0500
TZOFFSETTO:-0400
TZNAME:EDT
END:DAYLIGHT
END:VTIMEZONE
END:VCALENDAR