BEGIN:VCALENDAR
VERSION:2.0
PRODID:-//wp-events-plugin.com//7.2.3.1//EN
TZID:America/New_York
X-WR-TIMEZONE:America/New_York
BEGIN:VEVENT
UID:440@lexcan.org
DTSTART;TZID=America/New_York:20250429T190000
DTEND;TZID=America/New_York:20250429T210000
DTSTAMP:20250418T134541Z
URL:https://lexcan.org/events/film-screening-of-plastic-people-the-hidden-
 crisis-of-microplastics/
SUMMARY:Film Screening of Plastic People: The Hidden Crisis of Microplastic
 s
DESCRIPTION:**This event will take place at the Lexington Venue\, 1794 Mass
 achusetts Ave\, Lexington\n\nJoin us for a screening of the Plastic Peop
 le: The Hidden Crisis of Microplastics. Plastic People is an award-winn
 ing feature documentary that chronicles humanity’s fraught relationship 
 with plastic and one woman’s mission to expose shocking new revelation
 s about the impact of microplastics on human health. Winner of the Environ
 mental Award at the Hamptons Doc Fest and the Jury Prize at the Filme für
  die Erde Festival in Switzerland (plasticpeopledoc.com).  A discussion w
 ill follow.\n\nFilm runs for 84 mins.  Director: Ben Addelman\, Co-Direct
 or &amp\; Science Journalist: Ziya Tong\n\nAttendance is on a first-come b
 asis.\nPresented in partnership with Climate Action Team - First Parish in
  Lexington UU\, LexCAN\, LexZeroWaste\, the Lexington Venue and Cary Memor
 ial Library.
ATTACH;FMTTYPE=image/jpeg:https://lexcan.org/wp-content/uploads/2025/04/Sc
 reenshot-2025-04-03-at-11.17.40 AM.png
CATEGORIES:**LexCAN Events,*Featured,Community Events,Educational,Nature
 &amp; Ecology
LOCATION:Lexington Venue\, 1794 Massachusetts Avenue\, Lexington\, Massachu
 setts\, 02420\, United States
X-APPLE-STRUCTURED-LOCATION;VALUE=URI;X-ADDRESS=1794 Massachusetts Avenue\,
  Lexington\, Massachusetts\, 02420\, United States;X-APPLE-RADIUS=100;X-TI
 TLE=Lexington Venue:geo:0,0
END:VEVENT
BEGIN:VTIMEZONE
TZID:America/New_York
X-LIC-LOCATION:America/New_York
BEGIN:DAYLIGHT
DTSTART:20250309T030000
TZOFFSETFROM:-0500
TZOFFSETTO:-0400
TZNAME:EDT
END:DAYLIGHT
END:VTIMEZONE
END:VCALENDAR