BEGIN:VCALENDAR
VERSION:2.0
PRODID:-//wp-events-plugin.com//7.2.3.1//EN
TZID:America/New_York
X-WR-TIMEZONE:America/New_York
BEGIN:VEVENT
UID:1091@lexcan.org
DTSTART;TZID=America/New_York:20260422T183000
DTEND;TZID=America/New_York:20260422T203000
DTSTAMP:20260327T231247Z
URL:https://lexcan.org/events/earth-day-mending-clinic/
SUMMARY:Earth Day Mending Clinic
DESCRIPTION:Looking for a fun way to make worn clothes feel new and excitin
 g again? Drop in to our Earth Day Mending Clinic where members of LexZeroW
 aste’s Textiles and Mending Team will help you with simple mending techn
 iques to help you beautifully repair loved clothing so you can “Mend it\
 , not End it.” Adults and Teens welcome.\n\nBring something to mend or 
 if you don’t have something to mend right now\, stop by to see the team
 ’s projects-in-progress\, including decorative mending and items made of
  repurposed clothing and fabric. Come practice basic techniques on our com
 munity mending tablecloth!
ATTACH;FMTTYPE=image/jpeg:https://lexcan.org/wp-content/uploads/2026/03/vi
 sible_mending_jeans-1.png
CATEGORIES:Community Events,Educational
LOCATION:Cary Memorial Library\, 1874 Mass Ave\, Lexington\, United States
X-APPLE-STRUCTURED-LOCATION;VALUE=URI;X-ADDRESS=1874 Mass Ave\, Lexington\,
  United States;X-APPLE-RADIUS=100;X-TITLE=Cary Memorial Library:geo:0,0
END:VEVENT
BEGIN:VTIMEZONE
TZID:America/New_York
X-LIC-LOCATION:America/New_York
BEGIN:DAYLIGHT
DTSTART:20260308T030000
TZOFFSETFROM:-0500
TZOFFSETTO:-0400
TZNAME:EDT
END:DAYLIGHT
END:VTIMEZONE
END:VCALENDAR