BEGIN:VCALENDAR
VERSION:2.0
PRODID:-//wp-events-plugin.com//7.2.3.1//EN
TZID:America/New_York
X-WR-TIMEZONE:America/New_York
BEGIN:VEVENT
UID:991@lexcan.org
DTSTART;TZID=America/New_York;VALUE=DATE:20260501
DTEND;TZID=America/New_York;VALUE=DATE:20260601
DTSTAMP:20260219T200932Z
URL:https://lexcan.org/events/diamond-versus-clark-lexington-commute-chall
 enge/
SUMMARY:Diamond Versus Clark Lexington Commute Challenge
DESCRIPTION:ENTER MILES HERE\n\nAre you in Middle School or do you have a c
 hild who is? Join this friendly competition between Clarke and Diamond!\n\
 nStudents will log their active (walk\, bike\, scoot\, skateboard\, etc.) 
 commute miles to/from school during the month of May. The school with the 
 most active commute miles will win the trophy and there will be prizes for
  the top mile-earners at each school. For more info visit: www.dawescup.or
 g
ATTACH;FMTTYPE=image/jpeg:https://lexcan.org/wp-content/uploads/2026/02/Do
 cument-6.png
CATEGORIES:Community Events,Transportation
END:VEVENT
BEGIN:VTIMEZONE
TZID:America/New_York
X-LIC-LOCATION:America/New_York
BEGIN:DAYLIGHT
DTSTART:20260308T030000
TZOFFSETFROM:-0500
TZOFFSETTO:-0400
TZNAME:EDT
END:DAYLIGHT
END:VTIMEZONE
END:VCALENDAR