BEGIN:VCALENDAR
VERSION:2.0
PRODID:-//wp-events-plugin.com//7.2.3.1//EN
TZID:America/New_York
X-WR-TIMEZONE:America/New_York
BEGIN:VEVENT
UID:373@lexcan.org
DTSTART;TZID=America/New_York:20240918T183000
DTEND;TZID=America/New_York:20240918T210000
DTSTAMP:20250829T234804Z
URL:https://lexcan.org/events/common-ground-documentary-screening-at-lexfa
 rm/
SUMMARY:Common Ground Documentary Screening at LexFarm
DESCRIPTION:IN PERSON: REGISTER\n\nRain date of 9/25 same time - 1:45 run t
 ime - Movie Start time of 7:00PM (Adults only\; some disturbing content)Jo
 in us on the farm to enjoy a group screening of Common Ground. Screening 
 will be introduced by Pam Tames\, Executive Director of Lexington Communit
 y Farm highlighting the wonderful work LexFarm is putting into practice to
  support regenerative farming and help enrich the land for generations to 
 come.Common Ground is the highly anticipated sequel to the juggernaut succ
 ess documentary\, Kiss the Ground\, which touched over 1 billion people gl
 obally and inspired the United States Department of Agriculture (USDA) to 
 put $20 billion toward soil health. By fusing journalistic exposé with de
 eply personal stories from those on the front lines of the food movement\,
  Common Ground unveils a dark web of money\, power\, and politics behind o
 ur broken food system. The film reveals how unjust practices forged our cu
 rrent farm system in which farmers of all colors are literally dying to fe
 ed us. The film profiles a hopeful and uplifting movement of white\, black
 \, and indigenous farmers who are using alternative "regenerative" models 
 of agriculture that could balance the climate\, save our health\, and stab
 ilize America's economy -- before it's too late.Admission is free but regi
 stration is required given limited space.This screening is brought to the 
 community as a collaboration between Cary Library\, Lexington Community F
 arm\, and the Lexington Climate Action Network.\n\n\n\n\n
ATTACH;FMTTYPE=image/jpeg:https://lexcan.org/wp-content/uploads/2024/08/Co
 mmon-Ground.jpg
CATEGORIES:**LexCAN Events
LOCATION:Lexington Community Farm\, 52 Lowell Street\, Lexington\, United S
 tates
X-APPLE-STRUCTURED-LOCATION;VALUE=URI;X-ADDRESS=52 Lowell Street\, Lexingto
 n\, United States;X-APPLE-RADIUS=100;X-TITLE=Lexington Community Farm:geo:
 0,0
END:VEVENT
BEGIN:VTIMEZONE
TZID:America/New_York
X-LIC-LOCATION:America/New_York
BEGIN:DAYLIGHT
DTSTART:20240310T030000
TZOFFSETFROM:-0500
TZOFFSETTO:-0400
TZNAME:EDT
END:DAYLIGHT
END:VTIMEZONE
END:VCALENDAR