BEGIN:VCALENDAR
VERSION:2.0
PRODID:-//wp-events-plugin.com//7.2.3.1//EN
TZID:America/New_York
X-WR-TIMEZONE:America/New_York
BEGIN:VEVENT
UID:1029@lexcan.org
DTSTART;TZID=America/New_York:20260406T190000
DTEND;TZID=America/New_York:20260406T203000
DTSTAMP:20260325T161110Z
URL:https://lexcan.org/events/climate-book-club-from-wasteland-to-wonder/
SUMMARY:Climate Book Club: From Wasteland to Wonder
DESCRIPTION:\n\nREGISTER HERE\n\nLexCAN is pleased to co-sponsor a new "Cli
 mate Book Club" in partnership with Cary Library.\n\nApril 6th 7:00-8:30 P
 M\n\nCary Library\, Large Meeting Room \n\n1874 Massachusetts Avenue\, Le
 xington\n\nThis April we will be discussing “From Wasteland to WONDER: 
 Easy Ways We Can Help Heal Earth in the Sub/Urban Landscape". This event i
 s co-sponsored by Lexington Living Landscapes.\n\nRegistration required t
 hrough Cary Library\n\n“Save time &amp\; help heal earth:\n\nThe way we 
 currently manage the sub/urban landscape is creating a wasteland and harmi
 ng the well-being of Earth. Fortunately\, we have an alternative path: we 
 can work with natural systems instead of working against them. By doing so
  we can help heal Earth. We also save time and money because we perform fe
 wer tasks and use fewer products. Best of all\, these are simple things th
 at anyone can do regardless of their knowledge or experience.“  Basil 
 Camu\, Author\n\nHere is a link to a recent webinar with Basil Camu from 
 wildones.org.\n\nDownload the book for free here\n\nFind Copies at Cary L
 ibrary\n\nOrder your own hardcopy here \n\n\n\n
ATTACH;FMTTYPE=image/jpeg:https://lexcan.org/wp-content/uploads/2026/03/un
 named-25.png
CATEGORIES:**LexCAN Events,*Featured,Educational,Nature &amp; Ecology
LOCATION:Cary Library\, Large Meeting Room\, 1874 Massachusetts Avenue\, Le
 xington\, MA\, United States
X-APPLE-STRUCTURED-LOCATION;VALUE=URI;X-ADDRESS=1874 Massachusetts Avenue\,
  Lexington\, MA\, United States;X-APPLE-RADIUS=100;X-TITLE=Cary Library\, 
 Large Meeting Room:geo:0,0
END:VEVENT
BEGIN:VTIMEZONE
TZID:America/New_York
X-LIC-LOCATION:America/New_York
BEGIN:DAYLIGHT
DTSTART:20260308T030000
TZOFFSETFROM:-0500
TZOFFSETTO:-0400
TZNAME:EDT
END:DAYLIGHT
END:VTIMEZONE
END:VCALENDAR