BEGIN:VCALENDAR
VERSION:2.0
PRODID:-//wp-events-plugin.com//7.2.3.1//EN
TZID:America/New_York
X-WR-TIMEZONE:America/New_York
BEGIN:VEVENT
UID:1062@lexcan.org
DTSTART;TZID=America/New_York:20260422T170000
DTEND;TZID=America/New_York:20260422T193000
DTSTAMP:20260325T180303Z
URL:https://lexcan.org/events/boston-public-library-event-geothermal-netwo
 rks-a-path-to-fossil-fuel-freedom-starts-here/
SUMMARY:Boston Public Library Event: Geothermal Networks - A Path to Fossil
  Fuel Freedom Starts Here
DESCRIPTION:REGISTER HERE\n\n\nPanelists representing a range of local clim
 ate action organizations will speak about the latest geothermal advances. 
 You’ll have an opportunity to learn about their work and take a picture 
 with a canoe. Registration is free and open to the public.\n\n
ATTACH;FMTTYPE=image/jpeg:https://lexcan.org/wp-content/uploads/2026/03/06
 148d1e-20b9-42dd-a8df-6c97312369c7.jpg
CATEGORIES:Community Events,Educational,Energy
LOCATION:Boston Public Library\, 700 Boylston Street\, Boston\, MA\, 02116\
 , United States
X-APPLE-STRUCTURED-LOCATION;VALUE=URI;X-ADDRESS=700 Boylston Street\, Bosto
 n\, MA\, 02116\, United States;X-APPLE-RADIUS=100;X-TITLE=Boston Public Li
 brary:geo:0,0
END:VEVENT
BEGIN:VTIMEZONE
TZID:America/New_York
X-LIC-LOCATION:America/New_York
BEGIN:DAYLIGHT
DTSTART:20260308T030000
TZOFFSETFROM:-0500
TZOFFSETTO:-0400
TZNAME:EDT
END:DAYLIGHT
END:VTIMEZONE
END:VCALENDAR