BEGIN:VCALENDAR
VERSION:2.0
PRODID:-//wp-events-plugin.com//7.2.3.1//EN
TZID:America/New_York
X-WR-TIMEZONE:America/New_York
BEGIN:VEVENT
UID:1170@lexcan.org
DTSTART;TZID=America/New_York;VALUE=DATE:20260503
DTEND;TZID=America/New_York;VALUE=DATE:20260511
DTSTAMP:20260421T143340Z
URL:https://lexcan.org/events/boston-climate-week/
SUMMARY:Boston Climate Week
DESCRIPTION:\nJoin Boston's largest climate action week. Seven days of even
 ts\, conversations\, and community action to accelerate our city's sustain
 able future. Boston is offering over a hundred events\, some of which are 
 online and some of them are in person\, where you can meet with like minde
 d people and learn more about solutions to the Climate Crisis!\nFor more i
 nformation and a complete list of events\, see here.\n\n
ATTACH;FMTTYPE=image/jpeg:https://lexcan.org/wp-content/uploads/2026/04/bo
 ston-harbor-DHVwTvip.webp
CATEGORIES:Community Events,Educational,Virtual
END:VEVENT
BEGIN:VTIMEZONE
TZID:America/New_York
X-LIC-LOCATION:America/New_York
BEGIN:DAYLIGHT
DTSTART:20260308T030000
TZOFFSETFROM:-0500
TZOFFSETTO:-0400
TZNAME:EDT
END:DAYLIGHT
END:VTIMEZONE
END:VCALENDAR