BEGIN:VCALENDAR
VERSION:2.0
PRODID:-//wp-events-plugin.com//7.2.3.1//EN
TZID:America/New_York
X-WR-TIMEZONE:America/New_York
BEGIN:VEVENT
UID:1114@lexcan.org
DTSTART;TZID=America/New_York:20260421T190000
DTEND;TZID=America/New_York:20260421T200000
DTSTAMP:20260407T165830Z
URL:https://lexcan.org/events/bad-art-night-at-newton-free-library-earth-d
 ay-edition/
SUMMARY:Bad Art Night at Newton Free Library: Earth Day Edition
DESCRIPTION:The Newton Free Library will provide recyclable materials to cr
 eate (bad) art celebrating Earth Day. If you have recyclable materials tha
 t you’d like to turn into art\, bring them along!\n\n\nQuestions? Contac
 t Jenna at newtonpublicservices@minlib.net.\n\n
ATTACH;FMTTYPE=image/jpeg:https://lexcan.org/wp-content/uploads/2026/04/cr
 afts.webp
CATEGORIES:Community Events,Educational,Nature &amp; Ecology
LOCATION:Newton Free Library\, 330 Homer St\, Newton\, MA\, 02459\, United 
 States
X-APPLE-STRUCTURED-LOCATION;VALUE=URI;X-ADDRESS=330 Homer St\, Newton\, MA\
 , 02459\, United States;X-APPLE-RADIUS=100;X-TITLE=Newton Free Library:geo
 :0,0
END:VEVENT
BEGIN:VTIMEZONE
TZID:America/New_York
X-LIC-LOCATION:America/New_York
BEGIN:DAYLIGHT
DTSTART:20260308T030000
TZOFFSETFROM:-0500
TZOFFSETTO:-0400
TZNAME:EDT
END:DAYLIGHT
END:VTIMEZONE
END:VCALENDAR