BEGIN:VCALENDAR
VERSION:2.0
PRODID:-//wp-events-plugin.com//7.2.3.1//EN
TZID:America/New_York
X-WR-TIMEZONE:America/New_York
BEGIN:VEVENT
UID:1179@lexcan.org
DTSTART;TZID=America/New_York:20260429T200000
DTEND;TZID=America/New_York:20260429T210000
DTSTAMP:20260423T160812Z
URL:https://lexcan.org/events/action-hour-no-big-oil-immunity/
SUMMARY:Action Hour: No Big Oil Immunity!
DESCRIPTION:REGISTER HERE\n\nJoin the Action Network for a grassroots No Im
 munity for Big Oil Action Hour! You will take action to make sure that Big
  Oil doesn't receive blanket immunity for their crimes against the climate
  and humanity.\n\nYou will hear more about the latest developments in the 
 No Immunity for Big Oil campaign and then take a few easy actions all toge
 ther.
ATTACH;FMTTYPE=image/jpeg:https://lexcan.org/wp-content/uploads/2026/04/IM
 G_1702-scaled.jpg
CATEGORIES:Advocacy,Community Events,Educational,Energy,Virtual
LOCATION:https://actionnetwork.org/events/action-hour-no-big-oil-immunity/?
 link_id=0&can_id=948bc55b8135228de2c96d8e69068bd3&source=email-join-our-no
 -immunity-for-big-oil-grassroots-action-hour&email_referrer=email_3205955&
 email_subject=join-our-no-immunity-for-big-oil-grassroots-action-hour&&
END:VEVENT
BEGIN:VTIMEZONE
TZID:America/New_York
X-LIC-LOCATION:America/New_York
BEGIN:DAYLIGHT
DTSTART:20260308T030000
TZOFFSETFROM:-0500
TZOFFSETTO:-0400
TZNAME:EDT
END:DAYLIGHT
END:VTIMEZONE
END:VCALENDAR